BEGIN:VCALENDAR
VERSION:2.0
PRODID:-//Starcodes Academy - ECPv6.15.18//NONSGML v1.0//EN
CALSCALE:GREGORIAN
METHOD:PUBLISH
X-ORIGINAL-URL:https://starcodesacademy.com
X-WR-CALDESC:Events for Starcodes Academy
REFRESH-INTERVAL;VALUE=DURATION:PT1H
X-Robots-Tag:noindex
X-PUBLISHED-TTL:PT1H
BEGIN:VTIMEZONE
TZID:UTC
BEGIN:STANDARD
TZOFFSETFROM:+0000
TZOFFSETTO:+0000
TZNAME:UTC
DTSTART:20230101T000000
END:STANDARD
END:VTIMEZONE
BEGIN:VEVENT
DTSTART;TZID=UTC:20241111T170000
DTEND;TZID=UTC:20241111T180000
DTSTAMP:20260423T191134
CREATED:20241101T121437Z
LAST-MODIFIED:20241101T121554Z
UID:242343-1731344400-1731348000@starcodesacademy.com
SUMMARY:Our Journey to Mother Earth - free online workshop
DESCRIPTION:We are strongly called to share our experiences and give practical tools to those who feel a deep longing to work with the Earth. Therefore\, we would like to invite you to join our 𝗙𝗥𝗘𝗘 𝗢𝗻𝗹𝗶𝗻𝗲 𝗪𝗼𝗿𝗸𝘀𝗵𝗼𝗽 – 𝗢𝘂𝗿 𝗝𝗼𝘂𝗿𝗻𝗲𝘆 𝘁𝗼 𝗠𝗼𝘁𝗵𝗲𝗿 𝗘𝗮𝗿𝘁𝗵 – 𝗼𝗻 𝗠𝗼𝗻𝗱𝗮𝘆 𝘁𝗵𝗲 𝟭𝟭𝘁𝗵 𝗼𝗳 𝗡𝗼𝘃𝗲𝗺𝗯𝗲𝗿 𝗮𝘁 𝟭𝟳:𝟬𝟬 𝗨𝗧𝗖/𝟭𝟴:𝟬𝟬 𝗖𝗘𝗧/𝟭𝟮:𝟬𝟬 𝗘𝗦𝗧.\n\nTo join the workshop you need to sign up for our newsletter on our website and we will send you some further information (see white button at the top of our website).\n\n𝗠𝗼𝗿𝗲 𝗮𝗯𝗼𝘂𝘁 𝗼𝘂𝗿 𝘄𝗼𝗿𝗸For several years now\, Alma and Hrabbý have been called to do energy work in various places around Iceland\, clearing\, cleansing\, healing and activating energy with the help of elementals\, dragons\, angels and extraterrestrials among others.\nWhen we travel\, we send the dates we are available out to our guides and then receive messages about which part of the country we are needed at each time. We never have a precise itinerary in mind\, but only know the general area we are supposed to cover. Then we use our hearts and intuition to guide us to the correct places at the correct time\, all in divine timing.\nYou can therefore often see us down by the sea\, up on the highlands or wherever we are lead\, in the middle of the night lighting bonfires\, playing our drums and calling upon our team to dive into the earth and cleanse everything that needs to go so we can all ascend.\nTo trust and follow our intuition has been a journey and through that journey we have gained so many magical experiences.This work has taught us so much about the Earth\, about different energies\, about ourselves and the immense power of our light\, and all our lights combined.\nAnother important wisdom we have gained is that energy is never static\, it is constantly evolving. Therefore\, knowledge is not the same as wisdom. This means that what has been written and discovered about places\, energy portals\, energy grids\, ley lines and many other phenomena before\, might be quite different now. That’s why it is most important that ask for guidance\, then use our intuition to find for our own truth.
URL:https://starcodesacademy.com/event/our-journey-to-mother-earth-free-online-workshop/
LOCATION:Online
CATEGORIES:Webinars,Workshops
ATTACH;FMTTYPE=image/jpeg:https://starcodesacademy.com/wp-content/uploads/2024/07/IMG_20200722_214415-EFFECTS-scaled.jpg
ORGANIZER;CN="Starcodes Academy":MAILTO:info@starcodesacademy.com
END:VEVENT
END:VCALENDAR