BEGIN:VCALENDAR
VERSION:2.0
PRODID:-//Starcodes Academy - ECPv6.15.18//NONSGML v1.0//EN
CALSCALE:GREGORIAN
METHOD:PUBLISH
X-ORIGINAL-URL:https://starcodesacademy.com
X-WR-CALDESC:Events for Starcodes Academy
REFRESH-INTERVAL;VALUE=DURATION:PT1H
X-Robots-Tag:noindex
X-PUBLISHED-TTL:PT1H
BEGIN:VTIMEZONE
TZID:UTC
BEGIN:STANDARD
TZOFFSETFROM:+0000
TZOFFSETTO:+0000
TZNAME:UTC
DTSTART:20220101T000000
END:STANDARD
END:VTIMEZONE
BEGIN:VEVENT
DTSTART;TZID=UTC:20250528T170000
DTEND;TZID=UTC:20250528T180000
DTSTAMP:20260423T150132
CREATED:20241218T130352Z
LAST-MODIFIED:20250304T112455Z
UID:242840-1748451600-1748455200@starcodesacademy.com
SUMMARY:The Ancient Light Codes
DESCRIPTION:In this workshop we will look into the mystery of The Ancient Light Codes\, codes that we started channeling and have been working with since 2020. We will share with you the wisdom we have received about the light codes\, how some of them were used on Atlantis\, why they disappeared and why they are resurfacing now. \nLight codes have been with humanity from the beginning of time and are older than Earth itself. Many types of light codes exist which all have their unique purpose\, working on different frequencies and dimensions. In recent years\, information about various light codes through artwork\, writings and channelings of so-called light languages (both through symbols and spoken word) has become more common. Every channeling and drawing has its purpose and plays a role in the profound change that the Earth\, mankind and every other living being connected to Earth is experiencing right now – the ascension process. \nAt Starcodes Academy we work with three different types of light codes; personal light codes ignition light codes and other specific light codes and in this workshop we will tell you more about how we channel them and work with them.
URL:https://starcodesacademy.com/event/the-ancient-light-codes/
LOCATION:Online
CATEGORIES:Workshops
ATTACH;FMTTYPE=image/jpeg:https://starcodesacademy.com/wp-content/uploads/2024/12/The-Ancient-Light-Codes-4.jpg
ORGANIZER;CN="Starcodes Academy":MAILTO:info@starcodesacademy.com
END:VEVENT
BEGIN:VEVENT
DTSTART;TZID=UTC:20250430T170000
DTEND;TZID=UTC:20250430T180000
DTSTAMP:20260423T150132
CREATED:20241218T094038Z
LAST-MODIFIED:20250304T112419Z
UID:242838-1746032400-1746036000@starcodesacademy.com
SUMMARY:The Elementals Around You
DESCRIPTION:In this workshop we’ll explore the history of working with elementals in our native Iceland and other countries\, but also talk about elementals in your neighbourhood. We’ll talk about our work with these amazing beings and how we\, and you\, can connect to them. \nIceland is famous among other things for elves and hidden people. We have a long history of people connecting to elementals and living in close cooperation with them. But there are not only elves and hidden people in Iceland\, they are in many countries – and there are so many other dimensions that have nature spirits. Each and every country has elementals so you have them around as well. Why do we want to connect to elementals? Because they share the Earth with us! We can impact them and vice versa\, so cooperation is always better than not. And who doesn’t like getting to know their nice neighbours?
URL:https://starcodesacademy.com/event/the-elementals-around-you/
LOCATION:Online
CATEGORIES:Workshops
ATTACH;FMTTYPE=image/jpeg:https://starcodesacademy.com/wp-content/uploads/2024/12/The-Elementals-around-you.jpg
ORGANIZER;CN="Starcodes Academy":MAILTO:info@starcodesacademy.com
END:VEVENT
BEGIN:VEVENT
DTSTART;TZID=UTC:20250326T170000
DTEND;TZID=UTC:20250326T180000
DTSTAMP:20260423T150132
CREATED:20250304T111535Z
LAST-MODIFIED:20250304T112402Z
UID:243680-1743008400-1743012000@starcodesacademy.com
SUMMARY:Why should we connect with nature?
DESCRIPTION:Is nature calling your heart? \nMany of us are feeling this strong call within our hearts and we want to answer it. But how do we do that? What can we do to connect to nature in a deeper way and how can that benefit us and the Earth in the long run? We will share our own stories\, our favourite ways to connect with nature and hopefully leave you with a fire in your belly and some practical tools to continue your own journey with nature. \nConnecting with nature and its gifts is extremely important to us\, as we are part of the Earth\, and it is part of us. The gifts of connecting with nature include a quieter mind\, enveloping love\, and peace to listen to the voice of the heart\, the voice that tries to speak to us every day but we often don’t hear in the hustle and bustle of everyday life.
URL:https://starcodesacademy.com/event/why-should-we-connect-with-nature/
LOCATION:Online
CATEGORIES:Workshops
ATTACH;FMTTYPE=image/jpeg:https://starcodesacademy.com/wp-content/uploads/2024/09/asta-lochness-rotated.jpg
ORGANIZER;CN="Starcodes Academy":MAILTO:info@starcodesacademy.com
END:VEVENT
BEGIN:VEVENT
DTSTART;TZID=UTC:20250115T170000
DTEND;TZID=UTC:20250115T180000
DTSTAMP:20260423T150132
CREATED:20241101T122649Z
LAST-MODIFIED:20250107T162606Z
UID:242350-1736960400-1736964000@starcodesacademy.com
SUMMARY:The Heart of Scotland retreat - online info meeting
DESCRIPTION:Do you feel a connection to Scotland? Do you want to experience the country’s nature and energy in a unique way? \nJoin us for an information meeting about the magical retreat in the Scottish Highlands between 13th and 20th of June 2025. \nWe’ll tell you all about why we were called to travel around the Highlands\, what we will be doing during the week\, where we will stay and what our customers have to say about our retreat in 2024. \nYou will need to sign up for the meeting by clicking the link below and we’ll send you a link to the Zoom meeting. You will have a chance to ask questions at the meeting but please don’t hesitate to contact us earlier with your questions\, you can send us an email\, use the contact for on the website or send a message through social media. \nDon’t forget to check out other events and our social media so you can get to know us and our work better.
URL:https://starcodesacademy.com/event/the-heart-of-scotland-retreat-online-info-meeting/
LOCATION:Online
ATTACH;FMTTYPE=image/jpeg:https://starcodesacademy.com/wp-content/uploads/2024/09/FB_IMG_1718182121669.jpg
ORGANIZER;CN="Starcodes Academy":MAILTO:info@starcodesacademy.com
END:VEVENT
BEGIN:VEVENT
DTSTART;TZID=UTC:20241111T170000
DTEND;TZID=UTC:20241111T180000
DTSTAMP:20260423T150132
CREATED:20241101T121437Z
LAST-MODIFIED:20241101T121554Z
UID:242343-1731344400-1731348000@starcodesacademy.com
SUMMARY:Our Journey to Mother Earth - free online workshop
DESCRIPTION:We are strongly called to share our experiences and give practical tools to those who feel a deep longing to work with the Earth. Therefore\, we would like to invite you to join our 𝗙𝗥𝗘𝗘 𝗢𝗻𝗹𝗶𝗻𝗲 𝗪𝗼𝗿𝗸𝘀𝗵𝗼𝗽 – 𝗢𝘂𝗿 𝗝𝗼𝘂𝗿𝗻𝗲𝘆 𝘁𝗼 𝗠𝗼𝘁𝗵𝗲𝗿 𝗘𝗮𝗿𝘁𝗵 – 𝗼𝗻 𝗠𝗼𝗻𝗱𝗮𝘆 𝘁𝗵𝗲 𝟭𝟭𝘁𝗵 𝗼𝗳 𝗡𝗼𝘃𝗲𝗺𝗯𝗲𝗿 𝗮𝘁 𝟭𝟳:𝟬𝟬 𝗨𝗧𝗖/𝟭𝟴:𝟬𝟬 𝗖𝗘𝗧/𝟭𝟮:𝟬𝟬 𝗘𝗦𝗧.\n\nTo join the workshop you need to sign up for our newsletter on our website and we will send you some further information (see white button at the top of our website).\n\n𝗠𝗼𝗿𝗲 𝗮𝗯𝗼𝘂𝘁 𝗼𝘂𝗿 𝘄𝗼𝗿𝗸For several years now\, Alma and Hrabbý have been called to do energy work in various places around Iceland\, clearing\, cleansing\, healing and activating energy with the help of elementals\, dragons\, angels and extraterrestrials among others.\nWhen we travel\, we send the dates we are available out to our guides and then receive messages about which part of the country we are needed at each time. We never have a precise itinerary in mind\, but only know the general area we are supposed to cover. Then we use our hearts and intuition to guide us to the correct places at the correct time\, all in divine timing.\nYou can therefore often see us down by the sea\, up on the highlands or wherever we are lead\, in the middle of the night lighting bonfires\, playing our drums and calling upon our team to dive into the earth and cleanse everything that needs to go so we can all ascend.\nTo trust and follow our intuition has been a journey and through that journey we have gained so many magical experiences.This work has taught us so much about the Earth\, about different energies\, about ourselves and the immense power of our light\, and all our lights combined.\nAnother important wisdom we have gained is that energy is never static\, it is constantly evolving. Therefore\, knowledge is not the same as wisdom. This means that what has been written and discovered about places\, energy portals\, energy grids\, ley lines and many other phenomena before\, might be quite different now. That’s why it is most important that ask for guidance\, then use our intuition to find for our own truth.
URL:https://starcodesacademy.com/event/our-journey-to-mother-earth-free-online-workshop/
LOCATION:Online
CATEGORIES:Webinars,Workshops
ATTACH;FMTTYPE=image/jpeg:https://starcodesacademy.com/wp-content/uploads/2024/07/IMG_20200722_214415-EFFECTS-scaled.jpg
ORGANIZER;CN="Starcodes Academy":MAILTO:info@starcodesacademy.com
END:VEVENT
BEGIN:VEVENT
DTSTART;TZID=UTC:20240202T180000
DTEND;TZID=UTC:20240204T163000
DTSTAMP:20260423T150132
CREATED:20240103T114226Z
LAST-MODIFIED:20240103T114458Z
UID:238493-1706896800-1707064200@starcodesacademy.com
SUMMARY:Engla Reiki 1 & 2 í Hveragerði
DESCRIPTION:Dagana 2. – 4. febrúar bjóðum við upp á Engla Reiki 1 og 2 vinnustofu í Hveragerði. \nEngla Reiki er dásamlega mjúk en kröftug heilunaraðferð sem við getum notað dags daglega fyrir okkur sjálf\, fjölskyldu\, vini og dýrin okkar\, sem og boðið viðskiptavinum. \nÞessi vinnustofa kennir hina mögnuðu heilunaraðferð sem Engla Reiki er og er kennt yfir föstudagskvöld 18.00-22.00\, laugardag 9.30-17.30 og sunnudag 9.30-16.30. Þátttakendur taka á móti 1. og 2. gráðu Engla Reiki á þessum tíma og fá praktíska reynslu í nokkrum mismunandi meðferðaraðferðum. \nSamstillingin (attunement)\, sem tengir þátttakendur við heilunarenglana sína sem vinna með hverjum einstaklingi þar eftir\, inniheldur Reiki tákn sem eru samstillt gegnum tíðni englanna. Þessi tákn voru gefin mannkyninu af St. Germain á tímum Atlantis. Ekki er þörf á að læra táknin. \nNámskeiðið kostar 55.000 og innifalið í því er kristall og prentuð handbók á íslensku. Skráning fer fram hér.\n\nGreiða þarf 12.000 króna staðfestingargjald við skráningu og eftirstöðvar 20. janúar. Athugið að ef skráning fer fram eftir 20. janúar skal greiða námskeiðisgjaldið að fullu strax.\n\nKennari á námskeiðinu er Sonja Arnars.
URL:https://starcodesacademy.com/event/engla-reiki-1-2-i-hveragerdi/
CATEGORIES:Engla Reiki,Starcodes skólinn
ORGANIZER;CN="Starcodes Academy":MAILTO:info@starcodesacademy.com
END:VEVENT
BEGIN:VEVENT
DTSTART;TZID=UTC:20230822T173000
DTEND;TZID=UTC:20230822T183000
DTSTAMP:20260423T150132
CREATED:20230620T160128Z
LAST-MODIFIED:20230620T160128Z
UID:235656-1692725400-1692729000@starcodesacademy.com
SUMMARY:Samvera á Hjartaakrinum
DESCRIPTION:Samvera í Hjartakrinum er lifandi fundur sem fram fer á Facebookhóp samfélagsins. Í samveru Hjartaakrinum ræða leiðsögukonur Hjartaakursins meðal annars viðfangsefni mánaðarins og svara spurningum þátttakenda varðandi það ásamt ýmsu fleiru. \nViðburðir Hjartaakursins eru einungis opnir áskrifendum. Þú getur slegist í hópinn með því að smella á tengilinn hér fyrir neðan og skrá þig!
URL:https://starcodesacademy.com/event/samvera-a-hjartaakrinum-6/
CATEGORIES:Hjartaakurinn
ATTACH;FMTTYPE=image/png:https://starcodesacademy.com/wp-content/uploads/2023/04/Hjartaakurinn-transparent-logo.png
ORGANIZER;CN="Starcodes Academy":MAILTO:info@starcodesacademy.com
END:VEVENT
BEGIN:VEVENT
DTSTART;TZID=UTC:20230808T173000
DTEND;TZID=UTC:20230808T183000
DTSTAMP:20260423T150132
CREATED:20230620T160045Z
LAST-MODIFIED:20230620T160045Z
UID:235654-1691515800-1691519400@starcodesacademy.com
SUMMARY:Samvera á Hjartaakrinum
DESCRIPTION:Samvera í Hjartakrinum er lifandi fundur sem fram fer á Facebookhóp samfélagsins. Í samveru Hjartaakrinum ræða leiðsögukonur Hjartaakursins meðal annars viðfangsefni mánaðarins og svara spurningum þátttakenda varðandi það ásamt ýmsu fleiru. \nViðburðir Hjartaakursins eru einungis opnir áskrifendum. Þú getur slegist í hópinn með því að smella á tengilinn hér fyrir neðan og skrá þig!
URL:https://starcodesacademy.com/event/samvera-a-hjartaakrinum-5/
CATEGORIES:Hjartaakurinn
ATTACH;FMTTYPE=image/png:https://starcodesacademy.com/wp-content/uploads/2023/04/Hjartaakurinn-transparent-logo.png
ORGANIZER;CN="Starcodes Academy":MAILTO:info@starcodesacademy.com
END:VEVENT
BEGIN:VEVENT
DTSTART;TZID=UTC:20230606T173000
DTEND;TZID=UTC:20230606T183000
DTSTAMP:20260423T150132
CREATED:20230414T125227Z
LAST-MODIFIED:20230414T125227Z
UID:234926-1686072600-1686076200@starcodesacademy.com
SUMMARY:Samvera á Hjartaakrinum
DESCRIPTION:Samvera í Hjartakrinum er lifandi fundur sem fram fer á Facebookhóp samfélagsins. Í samveru Hjartaakrinum ræða leiðsögukonur Hjartaakursins meðal annars viðfangsefni mánaðarins og svara spurningum þátttakenda varðandi það ásamt ýmsu fleiru. \nViðburðir Hjartaakursins eru einungis opnir áskrifendum. Þú getur slegist í hópinn með því að smella á tengilinn hér fyrir neðan og skrá þig!
URL:https://starcodesacademy.com/event/samvera-a-hjartaakrinum/
ATTACH;FMTTYPE=image/png:https://starcodesacademy.com/wp-content/uploads/2023/04/Hjartaakurinn-transparent-logo.png
ORGANIZER;CN="Starcodes Academy":MAILTO:info@starcodesacademy.com
END:VEVENT
BEGIN:VEVENT
DTSTART;TZID=UTC:20230524T080000
DTEND;TZID=UTC:20230524T210000
DTSTAMP:20260423T150132
CREATED:20230414T125012Z
LAST-MODIFIED:20230414T125012Z
UID:234927-1684915200-1684962000@starcodesacademy.com
SUMMARY:Þín persónulega umbreyting - Zoom fundur
DESCRIPTION:Staðlota á námskeiðinu Þín persónulega umbreyting. Viðburðir námskeiðsins eru einungis fyrir skráða þátttakendur. Hægt er að skoða efni námskeiðsins\, verð og dagsetningar fyrir skólaárið 2023-2024 með því að smella á tengilinn hér fyrir neðan. \nEinnig er hægt að nálgast upptöku af kynningarfundi sem haldinn var þann 10. maí á heimasíðunni okkar undir „Andvarpið“ (birt eftir fund).
URL:https://starcodesacademy.com/event/thin-personulega-umbreyting-zoom-fundur/
ATTACH;FMTTYPE=image/jpeg:https://starcodesacademy.com/wp-content/uploads/2022/05/kerafossar-svandis.jpg
ORGANIZER;CN="Starcodes Academy":MAILTO:info@starcodesacademy.com
END:VEVENT
BEGIN:VEVENT
DTSTART;TZID=UTC:20230523T173000
DTEND;TZID=UTC:20230523T183000
DTSTAMP:20260423T150132
CREATED:20230414T124416Z
LAST-MODIFIED:20230426T163142Z
UID:234942-1684863000-1684866600@starcodesacademy.com
SUMMARY:Samvera á Hjartaakrinum
DESCRIPTION:Samvera í Hjartakrinum er lifandi fundur sem fram fer á Facebookhóp samfélagsins. Í samveru Hjartaakrinum ræða leiðsögukonur Hjartaakursins meðal annars viðfangsefni mánaðarins og svara spurningum þátttakenda varðandi það ásamt ýmsu fleiru. Viðburðir Hjartaakursins eru einungis opnir áskrifendum. Þú getur slegist í hópinn með því að smella á tengilinn hér fyrir neðan og skrá þig!
URL:https://starcodesacademy.com/event/samvera-a-hjartaakrinum-4/
ATTACH;FMTTYPE=image/png:https://starcodesacademy.com/wp-content/uploads/2023/04/Hjartaakurinn-transparent-logo.png
ORGANIZER;CN="Starcodes Academy":MAILTO:info@starcodesacademy.com
END:VEVENT
BEGIN:VEVENT
DTSTART;TZID=UTC:20230518T160000
DTEND;TZID=UTC:20230518T180000
DTSTAMP:20260423T150132
CREATED:20230414T222832Z
LAST-MODIFIED:20230414T222832Z
UID:234941-1684425600-1684432800@starcodesacademy.com
SUMMARY:Opið hús hjá Orkusteinum
DESCRIPTION:Orkusteinar er lítil verslun sem við rekum frá bækistöðvum okkar í Kópavogi. Orkusteinar eru hluti Starcodes skólans og bjóðum við upp á gott úrval af kristöllum og leiðsagnarspilum ásamt öðrum vörum tengdum andlegri iðkun\, svo sem bækur\, kertastjaka\, skart og fleira. Við byggjum á nær tveggja áratuga reynslu okkar af að vinna með bæði kristalla og leiðsagnarspil. Alma byrjaði að flytja inn kristalla og leiðsagnarspil fyrir um 15 árum með móður sinni í tengslum við kristalla- og spilanámskeið. Við byggjum því á góðum grunni þegar kemur að því að aðstoða þig við að finna vörur sem henta þér eða þeim sem þeim sem þér þykir vænt um. \nVið tökum vel á móti ykkur á opnu húsi í Álfkonuhvarfi 37\, íbúð 209 (2. hæð til hægri\, innsta íbúð). \nÁ samfélagsmiðlunum okkar Instagram og Facebook er að finna ýmsan fróðleik um steinana og spilin sem við bjóðum upp á @starcodesisl.
URL:https://starcodesacademy.com/event/opid-hus-hja-orkusteinum-2/
ATTACH;FMTTYPE=image/jpeg:https://starcodesacademy.com/wp-content/uploads/2023/04/Crystals.jpg
ORGANIZER;CN="Starcodes Academy":MAILTO:info@starcodesacademy.com
END:VEVENT
BEGIN:VEVENT
DTSTART;TZID=UTC:20230512T180000
DTEND;TZID=UTC:20230514T193000
DTSTAMP:20260423T150132
CREATED:20230414T123910Z
LAST-MODIFIED:20230414T123910Z
UID:234940-1683914400-1684092600@starcodesacademy.com
SUMMARY:Engla Reiki 1 & 2
DESCRIPTION:Á þessari vinnustofu eru kennd fyrstu tvö stig Engla Reiki heilunar. Engla Reiki er dásamlega mjúk en kröftug heilunaraðferð sem við getum notað dags daglega fyrir okkur sjálf\, fjölskyldu\, vini og dýrin okkar\, sem og boðið viðskiptavinum. Skráningarfrestur á námskeiðið er til 10. maí. \nNánari upplýsingar um námskeiðið og skráningu má finna undir tenglinum hér fyrir neðan.
URL:https://starcodesacademy.com/event/engla-reiki-1-2/
ATTACH;FMTTYPE=image/jpeg:https://starcodesacademy.com/wp-content/uploads/2023/04/Angelic-reiki-2.jpg
ORGANIZER;CN="Starcodes Academy":MAILTO:info@starcodesacademy.com
END:VEVENT
BEGIN:VEVENT
DTSTART;TZID=UTC:20230510T200000
DTEND;TZID=UTC:20230510T213000
DTSTAMP:20260423T150132
CREATED:20230414T122330Z
LAST-MODIFIED:20230414T122330Z
UID:234939-1683748800-1683754200@starcodesacademy.com
SUMMARY:Kynningarfundur um skólaárið 2023-2024 - Þín persónulega umbreyting og fleira spennandi
DESCRIPTION:Á þessum kynningarfundi fara þær Alma og Hrabbý yfir dagskrá skólaársins 2023-2024 með sérstaka áherslu á námskeiðið Þín persónulega umbreyting. Fundurinn fer fram í sal Sálarrannsóknarfélags Íslands en einnig verður boðið upp á að taka þátt í gegnum Zoom. Skráning á fundinn verður auglýst þegar að nær dregur.
URL:https://starcodesacademy.com/event/kynningarfundur-um-skolaarid-2023-2024-thin-personulega-umbreyting-og-fleira-spennandi/
ATTACH;FMTTYPE=image/jpeg:https://starcodesacademy.com/wp-content/uploads/2023/04/Alma-Hrabby-2.jpg
ORGANIZER;CN="Starcodes Academy":MAILTO:info@starcodesacademy.com
END:VEVENT
BEGIN:VEVENT
DTSTART;TZID=UTC:20230509T173000
DTEND;TZID=UTC:20230509T183000
DTSTAMP:20260423T150132
CREATED:20230414T121025Z
LAST-MODIFIED:20230426T162928Z
UID:234937-1683653400-1683657000@starcodesacademy.com
SUMMARY:Samvera á Hjartaakrinum
DESCRIPTION:Samvera í Hjartakrinum er lifandi fundur sem fram fer á Facebookhóp samfélagsins. Í samveru Hjartaakrinum ræða leiðsögukonur Hjartaakursins meðal annars viðfangsefni mánaðarins og svara spurningum þátttakenda varðandi það ásamt ýmsu fleiru. Viðburðir Hjartaakursins eru einungis opnir áskrifendum. Þú getur slegist í hópinn með því að smella á tengilinn hér fyrir neðan og skrá þig!
URL:https://starcodesacademy.com/event/samvera-a-hjartaakrinum-3/
ATTACH;FMTTYPE=image/png:https://starcodesacademy.com/wp-content/uploads/2023/04/Hjartaakurinn-transparent-logo.png
ORGANIZER;CN="Starcodes Academy":MAILTO:info@starcodesacademy.com
END:VEVENT
BEGIN:VEVENT
DTSTART;TZID=UTC:20230505T150000
DTEND;TZID=UTC:20230507T150000
DTSTAMP:20260423T150132
CREATED:20230414T120648Z
LAST-MODIFIED:20230414T120648Z
UID:234932-1683298800-1683471600@starcodesacademy.com
SUMMARY:Þín persónulega umbreyting - Staðlota 9
DESCRIPTION:Staðlota á námskeiðinu Þín persónulega umbreyting. Viðburðir námskeiðsins eru einungis fyrir skráða þátttakendur. \nHægt er að skoða efni námskeiðsins\, verð og dagsetningar fyrir skólaárið 2023-2024 með því að smella á tengilinn hér fyrir neðan. Við vekjum athygli á kynningarfundi um skólaárið 2023-2024 sem fram fer þann 10. maí (sjá dagatal).
URL:https://starcodesacademy.com/event/thin-personulega-umbreyting-stadlota-9/
ATTACH;FMTTYPE=image/jpeg:https://starcodesacademy.com/wp-content/uploads/2023/04/kerafossar-dagny-1.jpg
ORGANIZER;CN="Starcodes Academy":MAILTO:info@starcodesacademy.com
END:VEVENT
BEGIN:VEVENT
DTSTART;TZID=UTC:20230504T160000
DTEND;TZID=UTC:20230504T180000
DTSTAMP:20260423T150132
CREATED:20230414T222455Z
LAST-MODIFIED:20230414T222455Z
UID:234931-1683216000-1683223200@starcodesacademy.com
SUMMARY:Opið hús hjá Orkusteinum
DESCRIPTION:Orkusteinar er lítil verslun sem við rekum frá bækistöðvum okkar í Kópavogi. Orkusteinar eru hluti Starcodes skólans og bjóðum við upp á gott úrval af kristöllum og leiðsagnarspilum ásamt öðrum vörum tengdum andlegri iðkun\, svo sem bækur\, kertastjaka\, skart og fleira. Við byggjum á nær tveggja áratuga reynslu okkar af að vinna með bæði kristalla og leiðsagnarspil. Alma byrjaði að flytja inn kristalla og leiðsagnarspil fyrir um 15 árum með móður sinni í tengslum við kristalla- og spilanámskeið. Við byggjum því á góðum grunni þegar kemur að því að aðstoða þig við að finna vörur sem henta þér eða þeim sem þeim sem þér þykir vænt um. \nVið tökum vel á móti þér á opnu húsi í Álfkonuhvarfi 37\, íbúð 209 (2. hæð til hægri\, íbúðin innst).
URL:https://starcodesacademy.com/event/opid-hus-hja-orkusteinum/
ATTACH;FMTTYPE=image/jpeg:https://starcodesacademy.com/wp-content/uploads/2023/04/Cards.jpg
ORGANIZER;CN="Starcodes Academy":MAILTO:info@starcodesacademy.com
END:VEVENT
BEGIN:VEVENT
DTSTART;TZID=UTC:20230426T200000
DTEND;TZID=UTC:20230426T210000
DTSTAMP:20260423T150132
CREATED:20230414T115622Z
LAST-MODIFIED:20230414T115622Z
UID:234930-1682539200-1682542800@starcodesacademy.com
SUMMARY:Þín persónulega umbreyting - Zoom fundur
DESCRIPTION:Zoom fundur í námskeiðinu Þín persónulega umbreyting. Viðburðir á vegum námskeiðsins eru lokaðir öðrum en skráðum þátttakendum. \nHægt er að skoða efni námskeiðsins\, verð og dagsetningar fyrir skólaárið 2023-2024 með því að smella á tengilinn hér fyrir neðan. Við vekjum athygli á kynningarfundi um skólaárið 2023-2024 sem fram fer þann 10. maí (sjá dagatal).
URL:https://starcodesacademy.com/event/thin-personulega-umbreyting-zoom-fundur-2/
ATTACH;FMTTYPE=image/jpeg:https://starcodesacademy.com/wp-content/uploads/2023/04/IMG_4045-1.jpg
ORGANIZER;CN="Starcodes Academy":MAILTO:info@starcodesacademy.com
END:VEVENT
BEGIN:VEVENT
DTSTART;TZID=UTC:20230425T173000
DTEND;TZID=UTC:20230425T183000
DTSTAMP:20260423T150132
CREATED:20230414T105134Z
LAST-MODIFIED:20230426T162040Z
UID:234928-1682443800-1682447400@starcodesacademy.com
SUMMARY:Samvera á Hjartaakrinum
DESCRIPTION:Samvera í Hjartakrinum er lifandi fundur sem fram fer á Facebookhóp samfélagsins. Í samveru Hjartaakrinum ræða leiðsögukonur Hjartaakursins meðal annars viðfangsefni mánaðarins og svara spurningum þátttakenda varðandi það ásamt ýmsu fleiru. Viðburðir Hjartaakursins eru einungis opnir áskrifendum. Þú getur slegist í hópinn með því að smella á tengilinn hér fyrir neðan og skrá þig!
URL:https://starcodesacademy.com/event/samvera-a-hjartaakrinum-2/
ATTACH;FMTTYPE=image/png:https://starcodesacademy.com/wp-content/uploads/2023/04/Hjartaakurinn-transparent-logo.png
ORGANIZER;CN="Starcodes Academy":MAILTO:info@starcodesacademy.com
END:VEVENT
END:VCALENDAR